BEGIN:VCALENDAR
VERSION:2.0
PRODID:-//USMB - ECPv5.9.1//NONSGML v1.0//EN
CALSCALE:GREGORIAN
METHOD:PUBLISH
X-WR-CALNAME:USMB
X-ORIGINAL-URL:https://usmb59.fr
X-WR-CALDESC:évènements pour USMB
BEGIN:VTIMEZONE
TZID:Europe/Paris
BEGIN:DAYLIGHT
TZOFFSETFROM:+0100
TZOFFSETTO:+0200
TZNAME:CEST
DTSTART:20200329T010000
END:DAYLIGHT
BEGIN:STANDARD
TZOFFSETFROM:+0200
TZOFFSETTO:+0100
TZNAME:CET
DTSTART:20201025T010000
END:STANDARD
END:VTIMEZONE
BEGIN:VEVENT
DTSTART;TZID=Europe/Paris:20200929T191500
DTEND;TZID=Europe/Paris:20200929T193000
DTSTAMP:20260425T220226
CREATED:20200930T222905Z
LAST-MODIFIED:20200930T222906Z
UID:9003-1601406900-1601407800@usmb59.fr
SUMMARY:PRESENTATION EQUIPES IC
DESCRIPTION:
URL:https://usmb59.fr/calendrier/presentation-equipes-ic/
END:VEVENT
END:VCALENDAR